BEGIN:VCALENDAR
VERSION:2.0
PRODID:-//ACB - ECPv6.15.20//NONSGML v1.0//EN
CALSCALE:GREGORIAN
METHOD:PUBLISH
X-WR-CALNAME:ACB
X-ORIGINAL-URL:https://acb.com.cy/en/
X-WR-CALDESC:Events for ACB
REFRESH-INTERVAL;VALUE=DURATION:PT1H
X-Robots-Tag:noindex
X-PUBLISHED-TTL:PT1H
BEGIN:VTIMEZONE
TZID:Asia/Nicosia
BEGIN:DAYLIGHT
TZOFFSETFROM:+0200
TZOFFSETTO:+0300
TZNAME:EEST
DTSTART:20210328T010000
END:DAYLIGHT
BEGIN:STANDARD
TZOFFSETFROM:+0300
TZOFFSETTO:+0200
TZNAME:EET
DTSTART:20211031T010000
END:STANDARD
BEGIN:DAYLIGHT
TZOFFSETFROM:+0200
TZOFFSETTO:+0300
TZNAME:EEST
DTSTART:20220327T010000
END:DAYLIGHT
BEGIN:STANDARD
TZOFFSETFROM:+0300
TZOFFSETTO:+0200
TZNAME:EET
DTSTART:20221030T010000
END:STANDARD
BEGIN:DAYLIGHT
TZOFFSETFROM:+0200
TZOFFSETTO:+0300
TZNAME:EEST
DTSTART:20230326T010000
END:DAYLIGHT
BEGIN:STANDARD
TZOFFSETFROM:+0300
TZOFFSETTO:+0200
TZNAME:EET
DTSTART:20231029T010000
END:STANDARD
END:VTIMEZONE
BEGIN:VEVENT
DTSTART;VALUE=DATE:20220309
DTEND;VALUE=DATE:20220310
DTSTAMP:20260426T060115
CREATED:20221118T105140Z
LAST-MODIFIED:20221118T105238Z
UID:2202-1646784000-1646870399@acb.com.cy
SUMMARY:The Revised 3 Lines of Defence Requirements from the IIA
DESCRIPTION:The Revised 3 Lines of Defence Requirements from the IIA (12 ώρες) \nMr. Dennis Cox / Risk Reward Ltd \n08 – 10 Μαρτίου 2021 \nΕπιχορηγείται από την ΑΝΑΔ \nΓια οποιεσδήποτε πληροφορίες παρακαλείστε όπως απευθύνεστε στην κα. Μαρία Βαρνάβα\, Λειτουργό\, Τμήμα Εκπαίδευσης στο τηλ. 22364613 ή στην κα. Σκεύη Σοφοκλέους Κυριάκου\, Λειτουργό\, Τμήμα Εκπαίδευσης και Διοίκησης στο τηλ. 22364612. Email: ACBtraining@acb.com.cy \nΔείτε εδώ το Πρόγραμμα Σεμιναρίων – Α’ Εξάμηνο 2021
URL:https://acb.com.cy/en/event/the-revised-3-lines-of-defence-requirements-from-the-iia-9-march-2021/
CATEGORIES:Seminars
END:VEVENT
END:VCALENDAR