BEGIN:VCALENDAR
VERSION:2.0
PRODID:-//ACB - ECPv6.15.20//NONSGML v1.0//EN
CALSCALE:GREGORIAN
METHOD:PUBLISH
X-ORIGINAL-URL:https://acb.com.cy/en/
X-WR-CALDESC:Events for ACB
REFRESH-INTERVAL;VALUE=DURATION:PT1H
X-Robots-Tag:noindex
X-PUBLISHED-TTL:PT1H
BEGIN:VTIMEZONE
TZID:Asia/Nicosia
BEGIN:DAYLIGHT
TZOFFSETFROM:+0200
TZOFFSETTO:+0300
TZNAME:EEST
DTSTART:20170326T010000
END:DAYLIGHT
BEGIN:STANDARD
TZOFFSETFROM:+0300
TZOFFSETTO:+0200
TZNAME:EET
DTSTART:20171029T010000
END:STANDARD
BEGIN:DAYLIGHT
TZOFFSETFROM:+0200
TZOFFSETTO:+0300
TZNAME:EEST
DTSTART:20180325T010000
END:DAYLIGHT
BEGIN:STANDARD
TZOFFSETFROM:+0300
TZOFFSETTO:+0200
TZNAME:EET
DTSTART:20181028T010000
END:STANDARD
BEGIN:DAYLIGHT
TZOFFSETFROM:+0200
TZOFFSETTO:+0300
TZNAME:EEST
DTSTART:20190331T010000
END:DAYLIGHT
BEGIN:STANDARD
TZOFFSETFROM:+0300
TZOFFSETTO:+0200
TZNAME:EET
DTSTART:20191027T010000
END:STANDARD
BEGIN:DAYLIGHT
TZOFFSETFROM:+0200
TZOFFSETTO:+0300
TZNAME:EEST
DTSTART:20200329T010000
END:DAYLIGHT
BEGIN:STANDARD
TZOFFSETFROM:+0300
TZOFFSETTO:+0200
TZNAME:EET
DTSTART:20201025T010000
END:STANDARD
END:VTIMEZONE
BEGIN:VEVENT
DTSTART;VALUE=DATE:20191210
DTEND;VALUE=DATE:20191211
DTSTAMP:20260422T011857
CREATED:20221122T101204Z
LAST-MODIFIED:20221122T123719Z
UID:2574-1575936000-1576022399@acb.com.cy
SUMMARY:Measuring and Managing Credit Risk
DESCRIPTION:Measuring and Managing Credit Risk (12 ώρες) \nMr. Dennis Cox / Risk Reward Ltd \n09 & 10 Δεκεμβρίου 2019 \nΕπιχορηγείται από την ΑΝΑΔ \nΓια οποιεσδήποτε πληροφορίες παρακαλείστε όπως απευθύνεστε στην κα. Μαρία Βαρνάβα\, Λειτουργό\, Τομέα Εκπαίδευσης στο τηλ. 22364613 / e-mail m.varnava@acb.com.cy ή στην κα. Σκεύη Κυριάκου\, Λειτουργό\, Τμήμα Διοίκησης στο τηλ. 22364612 / e-mail s.sophocleous@acb.com.cy. \n Δείτε εδώ το Πρόγραμμα Σεμιναρίων – Β’ Εξαμήνου 2019
URL:https://acb.com.cy/en/event/measuring-and-managing-credit-risk-10-december-2019/
CATEGORIES:Seminars
END:VEVENT
BEGIN:VEVENT
DTSTART;VALUE=DATE:20191204
DTEND;VALUE=DATE:20191205
DTSTAMP:20260422T011857
CREATED:20221122T103749Z
LAST-MODIFIED:20221122T123603Z
UID:2588-1575417600-1575503999@acb.com.cy
SUMMARY:Drafting Commercial Contracts
DESCRIPTION:Drafting Commercial Contracts (12 ώρες) \nEIMF \n03 & 04 Δεκεμβρίου 2019 \nΕπιχορηγείται από την ΑΝΑΔ \nΓια οποιεσδήποτε πληροφορίες παρακαλείστε όπως απευθύνεστε στην κα. Μαρία Βαρνάβα\, Λειτουργό\, Τομέα Εκπαίδευσης στο τηλ. 22364613 / e-mail m.varnava@acb.com.cy ή στην κα. Σκεύη Κυριάκου\, Λειτουργό\, Τμήμα Διοίκησης στο τηλ. 22364612 / e-mail s.sophocleous@acb.com.cy. \n Δείτε εδώ το Πρόγραμμα Σεμιναρίων – Β’ Εξαμήνου 2019
URL:https://acb.com.cy/en/event/drafting-commercial-contracts-4-december-2019/
CATEGORIES:Seminars
END:VEVENT
BEGIN:VEVENT
DTSTART;VALUE=DATE:20191128
DTEND;VALUE=DATE:20191129
DTSTAMP:20260422T011857
CREATED:20221122T100739Z
LAST-MODIFIED:20221122T123448Z
UID:2566-1574899200-1574985599@acb.com.cy
SUMMARY:Anti-Bribery and Corruption Controls
DESCRIPTION:Anti-Bribery and Corruption Controls (12 ώρες) \nMr. Dennis Cox / Risk Reward Ltd  \n27 & 28 Νοεμβρίου 2019 \nΕπιχορηγείται από την ΑΝΑΔ \nΓια οποιεσδήποτε πληροφορίες παρακαλείστε όπως απευθύνεστε στην κα. Μαρία Βαρνάβα\, Λειτουργό\, Τομέα Εκπαίδευσης στο τηλ. 22364613 / e-mail m.varnava@acb.com.cy ή στην κα. Σκεύη Κυριάκου\, Λειτουργό\, Τμήμα Διοίκησης στο τηλ. 22364612 / e-mail s.sophocleous@acb.com.cy. \n Δείτε εδώ το Πρόγραμμα Σεμιναρίων – Β’ Εξαμήνου 2019
URL:https://acb.com.cy/en/event/anti-bribery-and-corruption-controls-28-november-2019/
CATEGORIES:Seminars
END:VEVENT
BEGIN:VEVENT
DTSTART;VALUE=DATE:20191126
DTEND;VALUE=DATE:20191127
DTSTAMP:20260422T011857
CREATED:20221122T095911Z
LAST-MODIFIED:20221123T090029Z
UID:2558-1574726400-1574812799@acb.com.cy
SUMMARY:The Risks of Outsourcing in Banking
DESCRIPTION:The Risks of Outsourcing in Banking (12 ώρες) \nMr. Dennis Cox / Risk Reward Ltd \n25 & 26 Νοεμβρίου 2019 \nΕπιχορηγείται από την ΑΝΑΔ \nΓια οποιεσδήποτε πληροφορίες παρακαλείστε όπως απευθύνεστε στην κα. Μαρία Βαρνάβα\, Λειτουργό\, Τομέα Εκπαίδευσης στο τηλ. 22364613 / e-mail m.varnava@acb.com.cy ή στην κα. Σκεύη Κυριάκου\, Λειτουργό\, Τμήμα Διοίκησης στο τηλ. 22364612 / e-mail s.sophocleous@acb.com.cy. \n Δείτε εδώ το Πρόγραμμα Σεμιναρίων – Β’ Εξαμήνου 2019
URL:https://acb.com.cy/en/event/the-risks-of-outsourcing-in-banking-26-november-2019/
CATEGORIES:Seminars
END:VEVENT
BEGIN:VEVENT
DTSTART;VALUE=DATE:20191122
DTEND;VALUE=DATE:20191123
DTSTAMP:20260422T011857
CREATED:20221122T121237Z
LAST-MODIFIED:20221122T123228Z
UID:2621-1574380800-1574467199@acb.com.cy
SUMMARY:CySEC Regulatory Updates
DESCRIPTION:CySEC Regulatory Updates (5 ώρες / 5 CPD Units) \nMr. Panayiotis Antoniou / EIMF \n22 Νοεμβρίου 2019 \nΕπιχορηγείται από την ΑΝΑΔ \nΓια οποιεσδήποτε πληροφορίες παρακαλείστε όπως απευθύνεστε στην κα. Μαρία Βαρνάβα\, Λειτουργό\, Τομέα Εκπαίδευσης στο τηλ. 22364613 / e-mail m.varnava@acb.com.cy ή στην κα. Σκεύη Κυριάκου\, Λειτουργό\, Τμήμα Διοίκησης στο τηλ. 22364612 / e-mail s.sophocleous@acb.com.cy. \n Δείτε εδώ το Πρόγραμμα Σεμιναρίων – Β’ Εξαμήνου 2019
URL:https://acb.com.cy/en/event/cysec-regulatory-updates/
CATEGORIES:Seminars
END:VEVENT
BEGIN:VEVENT
DTSTART;VALUE=DATE:20191121
DTEND;VALUE=DATE:20191122
DTSTAMP:20260422T011857
CREATED:20221122T120714Z
LAST-MODIFIED:20221122T123152Z
UID:2613-1574294400-1574380799@acb.com.cy
SUMMARY:AML\, KYC and Customer Due Diligence
DESCRIPTION:AML\, KYC and Customer Due Diligence (5 ώρες / 5 CPD Units) \nMr. Panagiotis Nikolaou / EIMF \n21 Οκτωβρίου 2019 \nΕπιχορηγείται από την ΑΝΑΔ \nΓια οποιεσδήποτε πληροφορίες παρακαλείστε όπως απευθύνεστε στην κα. Μαρία Βαρνάβα\, Λειτουργό\, Τομέα Εκπαίδευσης στο τηλ. 22364613 / e-mail m.varnava@acb.com.cy ή στην κα. Σκεύη Κυριάκου\, Λειτουργό\, Τμήμα Διοίκησης στο τηλ. 22364612 / e-mail s.sophocleous@acb.com.cy. \n Δείτε εδώ το Πρόγραμμα Σεμιναρίων – Β’ Εξαμήνου 2019 \n 
URL:https://acb.com.cy/en/event/aml-kyc-and-customer-due-diligence/
CATEGORIES:Seminars
END:VEVENT
BEGIN:VEVENT
DTSTART;VALUE=DATE:20191118
DTEND;VALUE=DATE:20191119
DTSTAMP:20260422T011857
CREATED:20221122T104514Z
LAST-MODIFIED:20221122T123040Z
UID:2602-1574035200-1574121599@acb.com.cy
SUMMARY:Coaching and Mentoring for Leaders in the Banking Industry
DESCRIPTION:Coaching and Mentoring for Leaders in the Banking Industry (28 ώρες) \nκα. Γεωργία Στυλιανίδου \n7 & 8 Νοεμβρίου 2019\n18 & 19 Νοεμβρίου 2019 \nΕπιχορηγείται από την ΑΝΑΔ \nΓια οποιεσδήποτε πληροφορίες παρακαλείστε όπως απευθύνεστε στην κα. Μαρία Βαρνάβα\, Λειτουργό\, Τομέα Εκπαίδευσης στο τηλ. 22364613 / e-mail m.varnava@acb.com.cy ή στην κα. Σκεύη Κυριάκου\, Λειτουργό\, Τμήμα Διοίκησης στο τηλ. 22364612 / e-mail s.sophocleous@acb.com.cy. \n Δείτε εδώ το Πρόγραμμα Σεμιναρίων – Β’ Εξαμήνου 2019
URL:https://acb.com.cy/en/event/coaching-and-mentoring-for-leaders-in-the-banking-industry-18-november-2019/
CATEGORIES:Seminars
END:VEVENT
BEGIN:VEVENT
DTSTART;VALUE=DATE:20191107
DTEND;VALUE=DATE:20191108
DTSTAMP:20260422T011857
CREATED:20221122T104244Z
LAST-MODIFIED:20221122T122925Z
UID:2595-1573084800-1573171199@acb.com.cy
SUMMARY:Coaching and Mentoring for Leaders in the Banking Industry
DESCRIPTION:Coaching and Mentoring for Leaders in the Banking Industry (28 ώρες) \nκα. Γεωργία Στυλιανίδου \n7 & 8 Νοεμβρίου 2019\n18 & 19 Νοεμβρίου 2019 \nΕπιχορηγείται από την ΑΝΑΔ \nΓια οποιεσδήποτε πληροφορίες παρακαλείστε όπως απευθύνεστε στην κα. Μαρία Βαρνάβα\, Λειτουργό\, Τομέα Εκπαίδευσης στο τηλ. 22364613 / e-mail m.varnava@acb.com.cy ή στην κα. Σκεύη Κυριάκου\, Λειτουργό\, Τμήμα Διοίκησης στο τηλ. 22364612 / e-mail s.sophocleous@acb.com.cy. \n Δείτε εδώ το Πρόγραμμα Σεμιναρίων – Β’ Εξαμήνου 2019
URL:https://acb.com.cy/en/event/coaching-and-mentoring-for-leaders-in-the-banking-industry-7-november-2019/
CATEGORIES:Seminars
END:VEVENT
BEGIN:VEVENT
DTSTART;VALUE=DATE:20191007
DTEND;VALUE=DATE:20191008
DTSTAMP:20260422T011857
CREATED:20221122T105009Z
LAST-MODIFIED:20221122T122655Z
UID:2610-1570406400-1570492799@acb.com.cy
SUMMARY:MiFID II Overview
DESCRIPTION:MiFID II Overview (5 ώρες / 5 CPD Units) \nMr. Demetris Nicolaou / EIMF \n7 Οκτωβρίου 2019 \nΕπιχορηγείται από την ΑΝΑΔ \nΓια οποιεσδήποτε πληροφορίες παρακαλείστε όπως απευθύνεστε στην κα. Μαρία Βαρνάβα\, Λειτουργό\, Τομέα Εκπαίδευσης στο τηλ. 22364613 / e-mail m.varnava@acb.com.cy ή στην κα. Σκεύη Κυριάκου\, Λειτουργό\, Τμήμα Διοίκησης στο τηλ. 22364612 / e-mail s.sophocleous@acb.com.cy. \n Δείτε εδώ το Πρόγραμμα Σεμιναρίων – Β’ Εξαμήνου 2019
URL:https://acb.com.cy/en/event/mifid-ii-overview/
CATEGORIES:Seminars
END:VEVENT
BEGIN:VEVENT
DTSTART;VALUE=DATE:20190918
DTEND;VALUE=DATE:20190919
DTSTAMP:20260422T011857
CREATED:20221122T095424Z
LAST-MODIFIED:20221122T095424Z
UID:2551-1568764800-1568851199@acb.com.cy
SUMMARY:Banks Systems\, Payment & Cybercrime
DESCRIPTION:Banks Systems\, Payment & Cybercrime (12 ώρες) \nMr. Dennis Cox / Risk Reward Ltd \n17 & 18 Σεπτεμβρίου 2019 \nΕπιχορηγείται από την ΑΝΑΔ \nΓια οποιεσδήποτε πληροφορίες παρακαλείστε όπως απευθύνεστε στην κα. Μαρία Βαρνάβα\, Λειτουργό\, Τομέα Εκπαίδευσης στο τηλ. 22364613 / e-mail m.varnava@acb.com.cy ή στην κα. Σκεύη Κυριάκου\, Λειτουργό\, Τμήμα Διοίκησης στο τηλ. 22364612 / e-mail s.sophocleous@acb.com.cy. \n Δείτε εδώ το Αναθεωρημένο Πρόγραμμα Σεμιναρίων – Β’ Εξαμήνου 2019
URL:https://acb.com.cy/en/event/banks-systems-payment-cybercrime-18-september-2019/
CATEGORIES:Seminars
END:VEVENT
BEGIN:VEVENT
DTSTART;VALUE=DATE:20190917
DTEND;VALUE=DATE:20190918
DTSTAMP:20260422T011857
CREATED:20221122T095236Z
LAST-MODIFIED:20221122T122442Z
UID:2548-1568678400-1568764799@acb.com.cy
SUMMARY:Banks Systems\, Payment & Cybercrime
DESCRIPTION:Banks Systems\, Payment & Cybercrime (12 ώρες) \nMr. Dennis Cox / Risk Reward Ltd \n17 & 18 Σεπτεμβρίου 2019 \nΕπιχορηγείται από την ΑΝΑΔ \nΓια οποιεσδήποτε πληροφορίες παρακαλείστε όπως απευθύνεστε στην κα. Μαρία Βαρνάβα\, Λειτουργό\, Τομέα Εκπαίδευσης στο τηλ. 22364613 / e-mail m.varnava@acb.com.cy ή στην κα. Σκεύη Κυριάκου\, Λειτουργό\, Τμήμα Διοίκησης στο τηλ. 22364612 / e-mail s.sophocleous@acb.com.cy. \n Δείτε εδώ το Πρόγραμμα Σεμιναρίων – Β’ Εξαμήνου 2019
URL:https://acb.com.cy/en/event/banks-systems-payment-cybercrime-17-september-2019/
CATEGORIES:Seminars
END:VEVENT
BEGIN:VEVENT
DTSTART;VALUE=DATE:20190514
DTEND;VALUE=DATE:20190515
DTSTAMP:20260422T011857
CREATED:20221122T131755Z
LAST-MODIFIED:20221123T085321Z
UID:2711-1557792000-1557878399@acb.com.cy
SUMMARY:Σεμινάριο με θέμα: “Corporate Credit Scoring”
DESCRIPTION:Σεμινάριο με θέμα: “Corporate Credit Scoring” \n13 και 14 Μαίου 2019 \nΔείτε εδώ το Σεμινάριο με θέμα: “Corporate Credit Scoring”
URL:https://acb.com.cy/en/event/%cf%83%ce%b5%ce%bc%ce%b9%ce%bd%ce%ac%cf%81%ce%b9%ce%bf-%ce%bc%ce%b5-%ce%b8%ce%ad%ce%bc%ce%b1-corporate-credit-scoring-14-may-2019/
CATEGORIES:Seminars
END:VEVENT
BEGIN:VEVENT
DTSTART;VALUE=DATE:20190319
DTEND;VALUE=DATE:20190320
DTSTAMP:20260422T011857
CREATED:20221122T132344Z
LAST-MODIFIED:20221123T085606Z
UID:2721-1552953600-1553039999@acb.com.cy
SUMMARY:Σεμινάριο με θέμα: Fraud and Corruption Auditing
DESCRIPTION:Σεμινάριο με θέμα: Fraud and Corruption Auditing \n18 και 19 Mαρτίου 2019 \nΔείτε εδώ το Σεμινάριο με θέμα: Fraud and Corruption Auditing
URL:https://acb.com.cy/en/event/%cf%83%ce%b5%ce%bc%ce%b9%ce%bd%ce%ac%cf%81%ce%b9%ce%bf-%ce%bc%ce%b5-%ce%b8%ce%ad%ce%bc%ce%b1-fraud-and-corruption-auditing-19-march-2019/
CATEGORIES:Seminars
END:VEVENT
BEGIN:VEVENT
DTSTART;VALUE=DATE:20181218
DTEND;VALUE=DATE:20181219
DTSTAMP:20260422T011857
CREATED:20221123T095335Z
LAST-MODIFIED:20221123T095335Z
UID:2842-1545091200-1545177599@acb.com.cy
SUMMARY:Syndicated Lending and Cross-border Finance
DESCRIPTION:Syndicated Lending and Cross-border Finance (12 ώρες) \nDennis Cox / Risk Reward Ltd – TBC \n17 & 18 Δεκεμβρίου 2018 \nΕπιχορηγείται από την ΑΝΑΔ \nΓια οποιεσδήποτε πληροφορίες παρακαλείστε όπως απευθύνεστε στην κα. Μαρία Βαρνάβα\, Λειτουργό\, Τομέα Εκπαίδευσης στο τηλ. 22364613 / e-mail m.varnava@acb.com.cy ή στην κα. Σκεύη Κυριάκου\, Λειτουργό\, Τμήμα Διοίκησης στο τηλ. 22364612 / email s.sophocleous@acb.com.cy. \nΔείτε εδώ το Πρόγραμμα Σεμιναρίων – Β’ Εξάμηνο 2018 – Σεπτέμβριος-Δεκέμβριος 2018
URL:https://acb.com.cy/en/event/syndicated-lending-and-cross-border-finance/
CATEGORIES:Seminars
END:VEVENT
BEGIN:VEVENT
DTSTART;VALUE=DATE:20181127
DTEND;VALUE=DATE:20181128
DTSTAMP:20260422T011857
CREATED:20221123T094547Z
LAST-MODIFIED:20221123T094555Z
UID:2831-1543276800-1543363199@acb.com.cy
SUMMARY:Auditing the Compliance Department
DESCRIPTION:Auditing the Compliance Department (12 ώρες) \nMr. John Porter / Risk Reward Ltd \n26 & 27 Νοεμβρίου 2018 \nΕπιχορηγείται από την ΑΝΑΔ \nΓια οποιεσδήποτε πληροφορίες παρακαλείστε όπως απευθύνεστε στην κα. Μαρία Βαρνάβα\, Λειτουργό\, Τομέα Εκπαίδευσης στο τηλ. 22364613 / e-mail m.varnava@acb.com.cy ή στην κα. Σκεύη Κυριάκου\, Λειτουργό\, Τμήμα Διοίκησης στο τηλ. 22364612 / email s.sophocleous@acb.com.cy. \nΔείτε εδώ το Πρόγραμμα Σεμιναρίων – Β’ Εξάμηνο 2018 – Σεπτέμβριος-Δεκέμβριος 2018
URL:https://acb.com.cy/en/event/auditing-the-compliance-department-27-november-2018/
CATEGORIES:Seminars
END:VEVENT
BEGIN:VEVENT
DTSTART;VALUE=DATE:20181116
DTEND;VALUE=DATE:20181117
DTSTAMP:20260422T011857
CREATED:20221123T093953Z
LAST-MODIFIED:20221123T093953Z
UID:2825-1542326400-1542412799@acb.com.cy
SUMMARY:PRIIPS and Investor Protection under MiFID II and IMDII
DESCRIPTION:PRIIPS and Investor Protection under MiFID II and IMDII (6 ώρες) \nκα. Χριστίνα Λιβαδά / EIMF (6 CDP Units για ΕΠΕΥ) \n16 Νοεμβρίου 2018 \nΕπιχορηγείται από την ΑΝΑΔ \nΓια οποιεσδήποτε πληροφορίες παρακαλείστε όπως απευθύνεστε στην κα. Μαρία Βαρνάβα\, Λειτουργό\, Τομέα Εκπαίδευσης στο τηλ. 22364613 / e-mail m.varnava@acb.com.cy ή στην κα. Σκεύη Κυριάκου\, Λειτουργό\, Τμήμα Διοίκησης στο τηλ. 22364612 / email s.sophocleous@acb.com.cy. \nΔείτε εδώ το Πρόγραμμα Σεμιναρίων – Β’ Εξάμηνο 2018 – Σεπτέμβριος-Δεκέμβριος 2018
URL:https://acb.com.cy/en/event/priips-and-investor-protection-under-mifid-ii-and-imdii/
CATEGORIES:Seminars
END:VEVENT
BEGIN:VEVENT
DTSTART;VALUE=DATE:20181114
DTEND;VALUE=DATE:20181115
DTSTAMP:20260422T011857
CREATED:20221123T105632Z
LAST-MODIFIED:20221123T105632Z
UID:2884-1542153600-1542239999@acb.com.cy
SUMMARY:Alternative Investment Funds (AIF)\, AIFM\, and Undertakings for Collective Investment in Transferable Securities (UCITS)
DESCRIPTION:Alternative Investment Funds (AIF)\, AIFM\, and Undertakings for Collective Investment in Transferable Securities (UCITS) (5 ώρες / 5 CPD Units) \nMr. Alex Kartalis / EIMF \n14 Νοεμβρίου 2018 \nΕπιχορηγείται από την ΑΝΑΔ \nΓια οποιεσδήποτε πληροφορίες παρακαλείστε όπως απευθύνεστε στην κα. Μαρία Βαρνάβα\, Λειτουργό\, Τομέα Εκπαίδευσης στο τηλ. 22364613 / e-mail m.varnava@acb.com.cy ή στην κα. Σκεύη Κυριάκου\, Λειτουργό\, Τμήμα Διοίκησης στο τηλ. 22364612 / email s.sophocleous@acb.com.cy. \nΔείτε εδώ το Πρόγραμμα Σεμιναρίων – Β’ Εξάμηνο 2018 – Σεπτέμβριος-Δεκέμβριος 2018
URL:https://acb.com.cy/en/event/alternative-investment-funds-aif-aifm-and-undertakings-for-collective-investment-in-transferable-securities-ucits/
CATEGORIES:Seminars
END:VEVENT
BEGIN:VEVENT
DTSTART;VALUE=DATE:20181112
DTEND;VALUE=DATE:20181113
DTSTAMP:20260422T011857
CREATED:20221123T105413Z
LAST-MODIFIED:20221123T105413Z
UID:2880-1541980800-1542067199@acb.com.cy
SUMMARY:CySEC Regulatory Updates
DESCRIPTION:CySEC Regulatory Updates [Επαναληπτικό] (5 ώρες / 5 CPD Units) \nMr. Yiannos Ashiotis / EIMF \n12 Νοεμβρίου 2018 \nΕπιχορηγείται από την ΑΝΑΔ \nΓια οποιεσδήποτε πληροφορίες παρακαλείστε όπως απευθύνεστε στην κα. Μαρία Βαρνάβα\, Λειτουργό\, Τομέα Εκπαίδευσης στο τηλ. 22364613 / e-mail m.varnava@acb.com.cy ή στην κα. Σκεύη Κυριάκου\, Λειτουργό\, Τμήμα Διοίκησης στο τηλ. 22364612 / email s.sophocleous@acb.com.cy. \nΔείτε εδώ το Πρόγραμμα Σεμιναρίων – Β’ Εξάμηνο 2018 – Σεπτέμβριος-Δεκέμβριος 2018
URL:https://acb.com.cy/en/event/cysec-regulatory-updates-12-november-2018/
CATEGORIES:Seminars
END:VEVENT
BEGIN:VEVENT
DTSTART;VALUE=DATE:20181108
DTEND;VALUE=DATE:20181109
DTSTAMP:20260422T011857
CREATED:20221123T105128Z
LAST-MODIFIED:20221123T105128Z
UID:2877-1541635200-1541721599@acb.com.cy
SUMMARY:MiFiD II Financial Promotion
DESCRIPTION:MiFiD II Financial Promotion (5 ώρες / 5 CPD Units) \nMr. Yiannos Ashiotis / EIMF \n8 Νοεμβρίου 2018 \nΕπιχορηγείται από την ΑΝΑΔ \nΓια οποιεσδήποτε πληροφορίες παρακαλείστε όπως απευθύνεστε στην κα. Μαρία Βαρνάβα\, Λειτουργό\, Τομέα Εκπαίδευσης στο τηλ. 22364613 / e-mail m.varnava@acb.com.cy ή στην κα. Σκεύη Κυριάκου\, Λειτουργό\, Τμήμα Διοίκησης στο τηλ. 22364612 / email s.sophocleous@acb.com.cy. \nΔείτε εδώ το Πρόγραμμα Σεμιναρίων – Β’ Εξάμηνο 2018 – Σεπτέμβριος-Δεκέμβριος 2018
URL:https://acb.com.cy/en/event/mifid-ii-financial-promotion-8-november-2018/
CATEGORIES:Seminars
END:VEVENT
BEGIN:VEVENT
DTSTART;VALUE=DATE:20181030
DTEND;VALUE=DATE:20181031
DTSTAMP:20260422T011858
CREATED:20221123T093427Z
LAST-MODIFIED:20221123T093717Z
UID:2816-1540857600-1540943999@acb.com.cy
SUMMARY:Corporate Credit Scoring
DESCRIPTION:Corporate Credit Scoring (12 ώρες) \nMr. Dennis Cox / Risk Reward Ltd – TBC \n29 & 30 Οκτωβρίου 2018 \nΕπιχορηγείται από την ΑΝΑΔ \nΓια οποιεσδήποτε πληροφορίες παρακαλείστε όπως απευθύνεστε στην κα. Μαρία Βαρνάβα\, Λειτουργό\, Τομέα Εκπαίδευσης στο τηλ. 22364613 / e-mail m.varnava@acb.com.cy ή στην κα. Σκεύη Κυριάκου\, Λειτουργό\, Τμήμα Διοίκησης στο τηλ. 22364612 / email s.sophocleous@acb.com.cy. \nΔείτε εδώ το Πρόγραμμα Σεμιναρίων – Β’ Εξάμηνο 2018 – Σεπτέμβριος-Δεκέμβριος 2018
URL:https://acb.com.cy/en/event/corporate-credit-scoring-30-october-2018/
CATEGORIES:Seminars
END:VEVENT
BEGIN:VEVENT
DTSTART;VALUE=DATE:20181029
DTEND;VALUE=DATE:20181030
DTSTAMP:20260422T011858
CREATED:20221123T093241Z
LAST-MODIFIED:20221123T093241Z
UID:2806-1540771200-1540857599@acb.com.cy
SUMMARY:Corporate Credit Scoring
DESCRIPTION:Corporate Credit Scoring (12 ώρες) \nMr. Dennis Cox / Risk Reward Ltd – TBC \n29 & 30 Οκτωβρίου 2018 \nΔείτε εδώ το Πρόγραμμα Σεμιναρίων – Β’ Εξάμηνο 2018 – Σεπτέμβριος-Δεκέμβριος 2018
URL:https://acb.com.cy/en/event/corporate-credit-scoring-29-october-2018/
CATEGORIES:Seminars
END:VEVENT
BEGIN:VEVENT
DTSTART;VALUE=DATE:20181018
DTEND;VALUE=DATE:20181019
DTSTAMP:20260422T011858
CREATED:20221123T073650Z
LAST-MODIFIED:20221123T093616Z
UID:2743-1539820800-1539907199@acb.com.cy
SUMMARY:Auditing the Treasury Function
DESCRIPTION:Auditing the Treasury Function (12 ώρες) \nMr. John Porter / Risk Reward Ltd \n17 & 18 Οκτωβρίου 2018 \nΕπιχορηγείται από την ΑΝΑΔ \nΓια οποιεσδήποτε πληροφορίες παρακαλείστε όπως απευθύνεστε στην κα. Μαρία Βαρνάβα\, Λειτουργό\, Τομέα Εκπαίδευσης στο τηλ. 22364613 / e-mail m.varnava@acb.com.cy ή στην κα. Σκεύη Κυριάκου\, Λειτουργό\, Τμήμα Διοίκησης στο τηλ. 22364612 / email s.sophocleous@acb.com.cy. \nΔείτε εδώ το Πρόγραμμα Σεμιναρίων – Β’ Εξάμηνο 2018 – Σεπτέμβριος-Δεκέμβριος 2018
URL:https://acb.com.cy/en/event/auditing-the-treasury-function-18-october-2018/
CATEGORIES:Seminars
END:VEVENT
BEGIN:VEVENT
DTSTART;VALUE=DATE:20180918
DTEND;VALUE=DATE:20180919
DTSTAMP:20260422T011858
CREATED:20221123T101638Z
LAST-MODIFIED:20221123T101743Z
UID:2859-1537228800-1537315199@acb.com.cy
SUMMARY:Σεμινάρια με θέμα «Ασφάλεια κατά ένοπλης ληστείας»
DESCRIPTION:Σεμινάρια με θέμα «Ασφάλεια κατά ένοπλης ληστείας» \nΠόλη: Λεμεσός \nΗμερομηνία: 18 Σεπτεμβρίου 2018 \nΕπιχορηγείται από την ΑΝΑΔ \nΓια οποιεσδήποτε πληροφορίες παρακαλείστε όπως απευθύνεστε στην κα. Μαρία Βαρνάβα\, Λειτουργό\, Τομέα Εκπαίδευσης στο τηλ. 22364613 / e-mail m.varnava@acb.com.cy ή στην κα. Σκεύη Κυριάκου\, Λειτουργό\, Τμήμα Διοίκησης στο τηλ. 22364612 / email s.sophocleous@acb.com.cy. \nΔείτε εδώ το Πρόγραμμα Σεμιναρίων – Β’ Εξάμηνο 2018 – Σεπτέμβριος-Δεκέμβριος 2018
URL:https://acb.com.cy/en/event/seminaria-me-thema-asfaleia-kata-enoplis-listeias-18-september-2018/
CATEGORIES:Seminars
END:VEVENT
BEGIN:VEVENT
DTSTART;VALUE=DATE:20180917
DTEND;VALUE=DATE:20180918
DTSTAMP:20260422T011858
CREATED:20221123T101308Z
LAST-MODIFIED:20221123T101335Z
UID:2855-1537142400-1537228799@acb.com.cy
SUMMARY:Σεμινάρια με θέμα «Ασφάλεια κατά ένοπλης ληστείας»
DESCRIPTION:Σεμινάρια με θέμα «Ασφάλεια κατά ένοπλης ληστείας» \nΠόλη: Λευκωσία \nΗμερομηνία: 17 Σεπτεμβρίου 2018 \nΕπιχορηγείται από την ΑΝΑΔ \nΓια οποιεσδήποτε πληροφορίες παρακαλείστε όπως απευθύνεστε στην κα. Μαρία Βαρνάβα\, Λειτουργό\, Τομέα Εκπαίδευσης στο τηλ. 22364613 / e-mail m.varnava@acb.com.cy ή στην κα. Σκεύη Κυριάκου\, Λειτουργό\, Τμήμα Διοίκησης στο τηλ. 22364612 / email s.sophocleous@acb.com.cy. \nΔείτε εδώ το Πρόγραμμα Σεμιναρίων – Β’ Εξάμηνο 2018 – Σεπτέμβριος-Δεκέμβριος 2018
URL:https://acb.com.cy/en/event/seminaria-me-thema-asfaleia-kata-enoplis-listeias-17-september-2018/
CATEGORIES:Seminars
END:VEVENT
BEGIN:VEVENT
DTSTART;VALUE=DATE:20180913
DTEND;VALUE=DATE:20180914
DTSTAMP:20260422T011858
CREATED:20221123T100743Z
LAST-MODIFIED:20221123T100933Z
UID:2849-1536796800-1536883199@acb.com.cy
SUMMARY:Σεμινάρια με θέμα «Ασφάλεια κατά ένοπλης ληστείας»
DESCRIPTION:Σεμινάρια με θέμα «Ασφάλεια κατά ένοπλης ληστείας» \nΠόλη: Λεμεσός \nΗμερομηνία: 13 Σεπτεμβρίου 2018 \nΕπιχορηγείται από την ΑΝΑΔ \nΓια οποιεσδήποτε πληροφορίες παρακαλείστε όπως απευθύνεστε στην κα. Μαρία Βαρνάβα\, Λειτουργό\, Τομέα Εκπαίδευσης στο τηλ. 22364613 / e-mail m.varnava@acb.com.cy ή στην κα. Σκεύη Κυριάκου\, Λειτουργό\, Τμήμα Διοίκησης στο τηλ. 22364612 / email s.sophocleous@acb.com.cy. \nΔείτε εδώ το Πρόγραμμα Σεμιναρίων – Β’ Εξάμηνο 2018 – Σεπτέμβριος-Δεκέμβριος 2018
URL:https://acb.com.cy/en/event/seminaria-me-thema-asfaleia-kata-enoplis-listeias-13-september-2018/
CATEGORIES:Seminars
END:VEVENT
BEGIN:VEVENT
DTSTART;VALUE=DATE:20180912
DTEND;VALUE=DATE:20180913
DTSTAMP:20260422T011858
CREATED:20221123T095744Z
LAST-MODIFIED:20221123T095755Z
UID:2847-1536710400-1536796799@acb.com.cy
SUMMARY:Σεμινάρια με θέμα «Ασφάλεια κατά ένοπλης ληστείας»
DESCRIPTION:Σεμινάρια με θέμα «Ασφάλεια κατά ένοπλης ληστείας» \nΠόλη: Λευκωσία \nΗμερομηνία: 12 Σεπτεμβρίου 2018 \nΕπιχορηγείται από την ΑΝΑΔ \nΓια οποιεσδήποτε πληροφορίες παρακαλείστε όπως απευθύνεστε στην κα. Μαρία Βαρνάβα\, Λειτουργό\, Τομέα Εκπαίδευσης στο τηλ. 22364613 / e-mail m.varnava@acb.com.cy ή στην κα. Σκεύη Κυριάκου\, Λειτουργό\, Τμήμα Διοίκησης στο τηλ. 22364612 / email s.sophocleous@acb.com.cy. \nΔείτε εδώ το Πρόγραμμα Σεμιναρίων – Β’ Εξάμηνο 2018 – Σεπτέμβριος-Δεκέμβριος 2018
URL:https://acb.com.cy/en/event/seminaria-me-thema-asfaleia-kata-enoplis-listeias-12-september-2018/
CATEGORIES:Seminars
END:VEVENT
BEGIN:VEVENT
DTSTART;VALUE=DATE:20180626
DTEND;VALUE=DATE:20180627
DTSTAMP:20260422T011858
CREATED:20221123T130429Z
LAST-MODIFIED:20221123T130429Z
UID:2892-1529971200-1530057599@acb.com.cy
SUMMARY:Σεμινάριο με θέμα: Advanced Securitisation
DESCRIPTION:Σεμινάριο με θέμα: Advanced Securitisation \n25 και 26 Ιουνίου 2018 \nΔείτε εδώ το Σεμινάριο με θέμα: Advanced Securitisation
URL:https://acb.com.cy/en/event/seminario-me-thema-advanced-securitisation-26-june-2018/
CATEGORIES:Seminars
END:VEVENT
BEGIN:VEVENT
DTSTART;VALUE=DATE:20180625
DTEND;VALUE=DATE:20180626
DTSTAMP:20260422T011858
CREATED:20221123T130221Z
LAST-MODIFIED:20221123T130238Z
UID:2887-1529884800-1529971199@acb.com.cy
SUMMARY:Σεμινάριο με θέμα: Advanced Securitisation
DESCRIPTION:Σεμινάριο με θέμα: Advanced Securitisation \n25 και 26 Ιουνίου 2018 \nΔείτε εδώ το Σεμινάριο με θέμα: Advanced Securitisation
URL:https://acb.com.cy/en/event/seminario-me-thema-advanced-securitisation/
END:VEVENT
BEGIN:VEVENT
DTSTART;VALUE=DATE:20180606
DTEND;VALUE=DATE:20180607
DTSTAMP:20260422T011858
CREATED:20221123T130752Z
LAST-MODIFIED:20221123T130752Z
UID:2896-1528243200-1528329599@acb.com.cy
SUMMARY:Σεμινάριο με θέμα: CRD IV Workshop
DESCRIPTION:Σεμινάριο με θέμα: CRD IV Workshop \n6 Ιουνίου 2018 \nΔείτε εδώ το Σεμινάριο με θέμα: CRD IV Workshop
URL:https://acb.com.cy/en/event/seminario-me-thema-crd-iv-workshop/
END:VEVENT
BEGIN:VEVENT
DTSTART;VALUE=DATE:20180510
DTEND;VALUE=DATE:20180511
DTSTAMP:20260422T011858
CREATED:20221123T132046Z
LAST-MODIFIED:20221123T132046Z
UID:2913-1525910400-1525996799@acb.com.cy
SUMMARY:Σεμινάριο με θέμα: Business Continuity Planning
DESCRIPTION:Σεμινάριο με θέμα: Business Continuity Planning \n9-10 Μαΐου 2018 \nΔείτε εδώ το Σεμινάριο με θέμα: Business Continuity Planning
URL:https://acb.com.cy/en/event/seminario-me-thema-business-continuity-planning-10-may-2018/
CATEGORIES:Seminars
END:VEVENT
END:VCALENDAR