BEGIN:VCALENDAR
VERSION:2.0
PRODID:-//ACB - ECPv6.15.20//NONSGML v1.0//EN
CALSCALE:GREGORIAN
METHOD:PUBLISH
X-WR-CALNAME:ACB
X-ORIGINAL-URL:https://acb.com.cy/en/
X-WR-CALDESC:Events for ACB
REFRESH-INTERVAL;VALUE=DURATION:PT1H
X-Robots-Tag:noindex
X-PUBLISHED-TTL:PT1H
BEGIN:VTIMEZONE
TZID:Asia/Nicosia
BEGIN:DAYLIGHT
TZOFFSETFROM:+0200
TZOFFSETTO:+0300
TZNAME:EEST
DTSTART:20210328T010000
END:DAYLIGHT
BEGIN:STANDARD
TZOFFSETFROM:+0300
TZOFFSETTO:+0200
TZNAME:EET
DTSTART:20211031T010000
END:STANDARD
BEGIN:DAYLIGHT
TZOFFSETFROM:+0200
TZOFFSETTO:+0300
TZNAME:EEST
DTSTART:20220327T010000
END:DAYLIGHT
BEGIN:STANDARD
TZOFFSETFROM:+0300
TZOFFSETTO:+0200
TZNAME:EET
DTSTART:20221030T010000
END:STANDARD
BEGIN:DAYLIGHT
TZOFFSETFROM:+0200
TZOFFSETTO:+0300
TZNAME:EEST
DTSTART:20230326T010000
END:DAYLIGHT
BEGIN:STANDARD
TZOFFSETFROM:+0300
TZOFFSETTO:+0200
TZNAME:EET
DTSTART:20231029T010000
END:STANDARD
END:VTIMEZONE
BEGIN:VEVENT
DTSTART;VALUE=DATE:20221123
DTEND;VALUE=DATE:20221124
DTSTAMP:20260424T195859
CREATED:20221123T131605Z
LAST-MODIFIED:20221123T131605Z
UID:2901-1669161600-1669247999@acb.com.cy
SUMMARY:Σεμινάριο με θέμα: Conduct Measurement: How to report robustly to the Regulator
DESCRIPTION:Σεμινάριο με θέμα: Conduct Measurement: How to report robustly to the Regulator \n22 Μαΐου 2018 \nΔείτε εδώ το Σεμινάριο με θέμα: Conduct Measurement: How to report robustly to the Regulator
URL:https://acb.com.cy/en/event/%cf%83%ce%b5%ce%bc%ce%b9%ce%bd%ce%ac%cf%81%ce%b9%ce%bf-%ce%bc%ce%b5-%ce%b8%ce%ad%ce%bc%ce%b1-conduct-measurement-how-to-report-robustly-to-the-regulator/
CATEGORIES:Seminars
END:VEVENT
END:VCALENDAR